BEGIN:VCALENDAR
VERSION:2.0
PRODID:-//IT Centrum - ECPv6.15.20//NONSGML v1.0//EN
CALSCALE:GREGORIAN
METHOD:PUBLISH
X-ORIGINAL-URL:https://itcentrum.id
X-WR-CALDESC:Events for IT Centrum
REFRESH-INTERVAL;VALUE=DURATION:PT1H
X-Robots-Tag:noindex
X-PUBLISHED-TTL:PT1H
BEGIN:VTIMEZONE
TZID:UTC
BEGIN:STANDARD
TZOFFSETFROM:+0000
TZOFFSETTO:+0000
TZNAME:UTC
DTSTART:20220101T000000
END:STANDARD
END:VTIMEZONE
BEGIN:VEVENT
DTSTART;TZID=UTC:20230617T080000
DTEND;TZID=UTC:20230617T123000
DTSTAMP:20260421T165939
CREATED:20230525T021556Z
LAST-MODIFIED:20230703T095304Z
UID:2566-1686988800-1687005000@itcentrum.id
SUMMARY:Community Sharing: Building Design System
DESCRIPTION:Sebelum kamu membuat sebuah desain antarmuka yang ciamik\, pernahkah kamu terbesit untuk membuat design system-nya dulu sebelum memulai mendesain? Perlukah kita membuatnya tiap kali membuat desain UI? Pada kesempatan ini\, kita bakal mempelajari seluk-beluk tentang Design System. \n  \nApa sih itu design system? Design System adalah sebuah kumpulan komponen design yang dapat digunakan kembali dan mempunyai aturan yang jelas sehingga dapat dirangkai menjadi sebuah produk. Design system ini bakal membantu banget untuk mempertahankan konsistensi desain ketika kita berkolaborasi dengan developer atau sesama designer. Tidak hanya design system\, kita juga bakal belajar tentang bagaimana penggunaan component-variant dan cara membuat design library di aplikasi Figma. \n  \nYang perlu kamu siapin: \n\n👍 Niat untuk belajar\n⌛ Waktu luang\n💻 Laptop (Jika tidak punya bisa menggunakan laptop ITC)\n✒️ Aplikasi Figma\n\n Closed\, Terimakasih
URL:https://itcentrum.id/community/community-sharing-building-design-system/
LOCATION:Ruang ITC\, Gedung KH. Mas Mansyur. Universitas Islam Indonesia. Jl. Kaliurang KM. 14\,5 Sleman\, Yogyakarta\, D.I. Yogyakarta\, 55584\, Indonesia
CATEGORIES:Community Sharing
ATTACH;FMTTYPE=image/jpeg:https://itcentrum.id/wp-content/uploads/2023/05/Sharing-Community-design-system.jpg
ORGANIZER;CN="ITC":MAILTO:itcentrum@uii.ac.id
END:VEVENT
BEGIN:VEVENT
DTSTART;TZID=UTC:20230318T080000
DTEND;TZID=UTC:20230318T123000
DTSTAMP:20260421T165939
CREATED:20230308T085453Z
LAST-MODIFIED:20230317T053446Z
UID:2252-1679126400-1679142600@itcentrum.id
SUMMARY:Community Sharing: Basic AI and Stable Diffusion
DESCRIPTION:[ LIMITED COMUNITY SHARING BASIC AI AND STABLE DIFFUSION ] \nHi\, Whiz! \nLET’S JOIN TO COMMUNITY SHARING \nBelajar sendiri bikin bosen ga si?\nTakut banget kalo ilmunya cuma itu-itu aja\nApalagi ga ada temen buat sharing knowledge\nHufftt ☹️ \nDaripada sendirian\, cobain komunitas dari IT Centrum yuk! \nCOMMUNITY SHARING BASIC AI AND STABLE DIFFUSION \n📝 Kecerdasan buatan atau Artificial Intelligence (AI) adalah bagian dari simulasi kecerdasan yang dimiliki oleh manusia kemudian dimodelkan di dalam mesin dan diprogram agar menampilkan perilaku yang sama cerdasnya dengan kemampuan yang dimiliki manusia. \n🏞️ Stable Diffusion itu adalah teknik pembuatan gambar dengan data “de-noising” kemudian mendekode representasi menjadi gambar penuh yang menghasilkan gambar dari deskripsi teks yang diberikan. Nantinya digunakan untuk tugas-tugas seperti inpainting\, outpainting\, terjemahan teks-ke-gambar dan gambar-ke-gambar. \n📆Sabtu\, 18 Maret 2023\n🕗08.00 – 12.00 WIB\n👨🏻‍💻 Mentor Ghaws Shafadonia \nJoin Discord 👉🏻 https://discord.gg/dQmGADHDAR \n‼️ FREE REGISTRATION ‼️\ncommitment & registration fee 50K\nLimited for 15 seats \nBenefit :\n✅ E-Sertificate\n✅ Snack\n✅ Merchandise \n‼️ CLOSED ‼️ \n  \n 
URL:https://itcentrum.id/community/community-sharing-basic-ai-and-stable-diffusion/
LOCATION:Ruang ITC\, Gedung KH. Mas Mansyur. Universitas Islam Indonesia. Jl. Kaliurang KM. 14\,5 Sleman\, Yogyakarta\, D.I. Yogyakarta\, 55584\, Indonesia
CATEGORIES:Community Sharing
ATTACH;FMTTYPE=image/jpeg:https://itcentrum.id/wp-content/uploads/2023/03/Basic-AI-Stable-Diffusion1.jpg
ORGANIZER;CN="ITC":MAILTO:itcentrum@uii.ac.id
END:VEVENT
END:VCALENDAR